View In:
ArcGIS JavaScript
ArcGIS Online Map Viewer
ArcGIS Earth
ArcMap
ArcGIS Pro
View Footprint In:
ArcGIS Online Map Viewer
Service Description:
Map Name: SID
Legend
All Layers and Tables
Dynamic Legend
Dynamic All Layers
Layers:
Description:
Service Item Id: defa5bf52a814d06ab8a062c0c18ddae
Copyright Text:
Spatial Reference:
103728
(103728)
Single Fused Map Cache: true
Tile Info:
- Height: 256
- Width: 256
- DPI: 96
-
Levels of Detail: 19
-
Level ID: 0
[ Start Tile, End Tile ]
- Resolution: 932295.14649357
- Scale: 1.074006156772906E9
-
Level ID: 1
[ Start Tile, End Tile ]
- Resolution: 466147.573246785
- Scale: 5.37003078386453E8
-
Level ID: 2
[ Start Tile, End Tile ]
- Resolution: 233073.7866233925
- Scale: 2.685015391932265E8
-
Level ID: 3
[ Start Tile, End Tile ]
- Resolution: 116536.89331169624
- Scale: 1.3425076959661326E8
-
Level ID: 4
[ Start Tile, End Tile ]
- Resolution: 58268.44665584812
- Scale: 6.712538479830663E7
-
Level ID: 5
[ Start Tile, End Tile ]
- Resolution: 29134.22332792406
- Scale: 3.3562692399153315E7
-
Level ID: 6
[ Start Tile, End Tile ]
- Resolution: 14567.11166396203
- Scale: 1.6781346199576657E7
-
Level ID: 7
[ Start Tile, End Tile ]
- Resolution: 7283.555831981015
- Scale: 8390673.099788329
-
Level ID: 8
[ Start Tile, End Tile ]
- Resolution: 3641.7779159905076
- Scale: 4195336.549894164
-
Level ID: 9
[ Start Tile, End Tile ]
- Resolution: 1820.8889579952538
- Scale: 2097668.274947082
-
Level ID: 10
[ Start Tile, End Tile ]
- Resolution: 910.4444789976269
- Scale: 1048834.137473541
-
Level ID: 11
[ Start Tile, End Tile ]
- Resolution: 455.22223949881345
- Scale: 524417.0687367705
-
Level ID: 12
[ Start Tile, End Tile ]
- Resolution: 227.61111974940673
- Scale: 262208.53436838527
-
Level ID: 13
[ Start Tile, End Tile ]
- Resolution: 113.80555987470336
- Scale: 131104.26718419263
-
Level ID: 14
[ Start Tile, End Tile ]
- Resolution: 56.90277993735168
- Scale: 65552.13359209632
-
Level ID: 15
[ Start Tile, End Tile ]
- Resolution: 28.45138996867584
- Scale: 32776.06679604816
-
Level ID: 16
[ Start Tile, End Tile ]
- Resolution: 14.22569498433792
- Scale: 16388.03339802408
-
Level ID: 17
[ Start Tile, End Tile ]
- Resolution: 7.11284749216896
- Scale: 8194.01669901204
-
Level ID: 18
[ Start Tile, End Tile ]
- Resolution: 3.55642374608448
- Scale: 4097.00834950602
- Format: Mixed
- Compression Quality: 75.0
- Origin: X: -1.1883377875117695E8
Y: 1.179302838210252E8
- Spatial Reference: 103728
(103728)
Storage Info:
- Storage Format: esriMapCacheStorageModeCompactV2
- Packet Size: 128
Initial Extent:
XMin: 601041.76060019
YMin: 95231.83731104506
XMax: 751961.7636185865
YMax: 237527.84015696167
Spatial Reference: 103728
(103728)
Full Extent:
XMin: 571031.999999995
YMin: 100319.99741280812
XMax: 734712.003273591
YMax: 229680.000000005
Spatial Reference: 103728
(103728)
Units: esriFeet
Supported Image Format Types: PNG32,PNG24,PNG,JPG,DIB,TIFF,EMF,PS,PDF,GIF,SVG,SVGZ,BMP
Document Info:
Title: Z:\GIS_Projects\DC CIS Imagery Builder- Map Service\CIS Imagery Builder\CIS Imagery Builder.aprx
Author:
Comments:
Subject:
Category:
Keywords: test
AntialiasingMode: None
TextAntialiasingMode: Force
Supports Dynamic Layers: true
Resampling: false
MaxRecordCount: 2000
MaxImageHeight: 4096
MaxImageWidth: 4096
Supported Query Formats: JSON, geoJSON, PBF
Supports Query Data Elements: true
Min Scale: 262208.53436838527
Max Scale: 8194.01669901204
Min LOD: 12
Max LOD: 17
Supports Datum Transformation: true
Child Resources:
Info
Dynamic Layer
Supported Operations:
Export Map
Identify
QueryLegends
QueryDomains
Find
Return Updates